BEGIN:VCALENDAR
VERSION:2.0
PRODID:icalendar-ruby
CALSCALE:GREGORIAN
METHOD:PUBLISH
BEGIN:VEVENT
DTSTAMP:20260422T060911Z
UID:25-1555984@restorationanoka.org
DTSTART:20260923T230000Z
DTEND:20260924T003000Z
CLASS:PUBLIC
CREATED:20260421T193707
DESCRIPTION:Grades Kindergarten to 5. Pizza served nightly. Believing\, Lea
 rning\, And Seeking Truth.
LAST-MODIFIED:20260421T193707
LOCATION:Restoration Church
SUMMARY:Wednesday Night BLAST
URL;VALUE=URI:https://www.restorationanoka.org/events/wednesday-night-blast
 /2026-09-23
ATTACH;FILENAME=1333E686-92D4-45E0-A7D6-A4BA659EEBF0_1_105_c.jpeg;FMTTYPE=i
 mage/jpeg:https://dq5pwpg1q8ru0.cloudfront.net/2025/11/18/16/38/26/414fcb3
 4-5929-4c29-a9e0-b60b7cddea82/1333E686-92D4-45E0-A7D6-A4BA659EEBF0_1_105_c
 .jpeg
END:VEVENT
END:VCALENDAR
