BEGIN:VCALENDAR
VERSION:2.0
PRODID:icalendar-ruby
CALSCALE:GREGORIAN
METHOD:PUBLISH
BEGIN:VEVENT
DTSTAMP:20260421T034730Z
UID:7-1549466@restorationanoka.org
DTSTART:20261011T150000Z
DTEND:20261011T160000Z
CLASS:PUBLIC
CREATED:20260420T192304
DESCRIPTION:Come join us for the weekend worship service here at Restoratio
 n Church in Anoka!
LAST-MODIFIED:20260420T192304
LOCATION:Restoration Anoka\, 503 Polk St\, Anoka\, MN 55303
SUMMARY:Sunday Worship Service
URL;VALUE=URI:https://www.restorationanoka.org/events/sunday-worship-servic
 e/2026-10-11
END:VEVENT
END:VCALENDAR
