BEGIN:VCALENDAR
VERSION:2.0
PRODID:icalendar-ruby
CALSCALE:GREGORIAN
METHOD:PUBLISH
BEGIN:VEVENT
DTSTAMP:20260420T215814Z
UID:7-1548501@restorationanoka.org
DTSTART:20260913T150000Z
DTEND:20260913T160000Z
CLASS:PUBLIC
CREATED:20260420T164810
DESCRIPTION:Come join us for the weekend worship service here at Restoratio
 n Church in Anoka!
LAST-MODIFIED:20260420T164810
LOCATION:Restoration Anoka\, 503 Polk St\, Anoka\, MN 55303
SUMMARY:Sunday Worship Service
URL;VALUE=URI:https://www.restorationanoka.org/events/sunday-worship-servic
 e/2026-09-13
END:VEVENT
END:VCALENDAR
