BEGIN:VCALENDAR
VERSION:2.0
PRODID:icalendar-ruby
CALSCALE:GREGORIAN
METHOD:PUBLISH
BEGIN:VEVENT
DTSTAMP:20260420T161139Z
UID:7-1545614@restorationanoka.org
DTSTART:20260816T150000Z
DTEND:20260816T160000Z
CLASS:PUBLIC
CREATED:20260420T090337
DESCRIPTION:Come join us for the weekend worship service here at Restoratio
 n Church in Anoka!
LAST-MODIFIED:20260420T090337
LOCATION:Restoration Anoka\, 503 Polk St\, Anoka\, MN 55303
SUMMARY:Sunday Worship Service
URL;VALUE=URI:https://www.restorationanoka.org/events/sunday-worship-servic
 e/2026-08-16
END:VEVENT
END:VCALENDAR
